BEGIN:VCALENDAR
VERSION:2.0
PRODID:-//ChamberMaster//Event Calendar 2.0//EN
METHOD:PUBLISH
X-PUBLISHED-TTL:P1H
REFRESH-INTERVAL:P1H
CALSCALE:GREGORIAN
BEGIN:VTIMEZONE
TZID:America/Anchorage
BEGIN:DAYLIGHT
RRULE:FREQ=YEARLY;BYMONTH=3;BYDAY=2SU
DTSTART:20070101T000000
TZOFFSETFROM:-0900
TZOFFSETTO:-0800
TZNAME:Alaskan Daylight Time
END:DAYLIGHT
BEGIN:STANDARD
RRULE:FREQ=YEARLY;BYMONTH=11;BYDAY=1SU
DTSTART:20070101T000000
TZOFFSETFROM:-0800
TZOFFSETTO:-0900
TZNAME:Alaskan Standard Time
END:STANDARD
END:VTIMEZONE
BEGIN:VEVENT
DTSTART;VALUE=DATE:20261019
DTEND;VALUE=DATE:20261023
TRANSP:TRANSPARENT
X-MICROSOFT-CDO-ALLDAYEVENT:TRUE
SUMMARY:2026 74th Annual Convention & Tradeshow
DESCRIPTION:
X-ALT-DESC;FMTTYPE=text/html:
LOCATION:939 W. 5th Ave. Anchorage AK 99501
UID:e.4339.1404066
SEQUENCE:3
DTSTAMP:20260422T135611Z
URL:https://alaskaindependentinsuranceagentsandbrokers.growthzoneapp.com/events/Details/2026-74th-annual-convention-tradeshow-1659287?sourceTypeId=Hub
END:VEVENT
END:VCALENDAR
